BEGIN:VCALENDAR
VERSION:2.0
PRODID:prosv/uchitelclub
NAME:Учитель.club
X-WR-CALNAME:Учитель.club
DESCRIPTION:Вебинары\, конференции\, рабочие пр
 ограммы\, повышение квалификации
X-WR-CALDESC:Вебинары\, конференции\, рабочие п
 рограммы\, повышение квалификации
BEGIN:VTIMEZONE
TZID:Europe/Moscow
BEGIN:STANDARD
DTSTART:20250726T120000
TZOFFSETFROM:+0300
TZOFFSETTO:+0300
END:STANDARD
END:VTIMEZONE
BEGIN:VTIMEZONE
TZID:UTC
BEGIN:STANDARD
DTSTART:20250723T122922
TZOFFSETFROM:+0000
TZOFFSETTO:+0000
END:STANDARD
END:VTIMEZONE
BEGIN:VEVENT
UID:19602
DTSTAMP:20260419T122922Z
SUMMARY:Знакомство с буквами и первый опыт ч
 тения дошкольника
STATUS:CONFIRMED
ORGANIZER;CN=ГК Просвещение:MAILTO:vopros@prosv.ru
URL:https://uchitel.club/events/znakomstvo-s-bukvami-i-pervyi-opyt-cteniia-
 doskolnika
DTSTART;TZID=Europe/Moscow:20260422T120000
DTEND;TZID=Europe/Moscow:20260422T130000
BEGIN:VALARM
ACTION:DISPLAY
DESCRIPTION:Мероприятие Знакомство с буквами 
 и первый опыт чтения дошкольника начнет
 ся через час
TRIGGER:-PT60M
END:VALARM
END:VEVENT
END:VCALENDAR