BEGIN:VCALENDAR
VERSION:2.0
PRODID:prosv/uchitelclub
NAME:Учитель.club
X-WR-CALNAME:Учитель.club
DESCRIPTION:Вебинары\, конференции\, рабочие пр
 ограммы\, повышение квалификации
X-WR-CALDESC:Вебинары\, конференции\, рабочие п
 рограммы\, повышение квалификации
BEGIN:VTIMEZONE
TZID:Europe/Moscow
BEGIN:STANDARD
DTSTART:20250726T140000
TZOFFSETFROM:+0300
TZOFFSETTO:+0300
END:STANDARD
END:VTIMEZONE
BEGIN:VTIMEZONE
TZID:UTC
BEGIN:STANDARD
DTSTART:20250723T163410
TZOFFSETFROM:+0000
TZOFFSETTO:+0000
END:STANDARD
END:VTIMEZONE
BEGIN:VEVENT
UID:19635
DTSTAMP:20260419T163410Z
SUMMARY:«Универсальная библиотека ЦОК: ресу
 рсы для эффективного повторения учебног
 о материала по математике»\, г.о. Саранск
STATUS:CONFIRMED
ORGANIZER;CN=ГК Просвещение:MAILTO:vopros@prosv.ru
URL:https://uchitel.club/events/universalnaia-biblioteka-cok-resursy-dlia-e
 ffektivnogo-povtoreniia-ucebnogo-materiala-po-matematike-go-saransk
DTSTART;TZID=Europe/Moscow:20260422T140000
DTEND;TZID=Europe/Moscow:20260422T150000
BEGIN:VALARM
ACTION:DISPLAY
DESCRIPTION:Мероприятие «Универсальная библи
 отека ЦОК: ресурсы для эффективного повт
 орения учебного материала по математике
 »\, г.о. Саранск начнется через час
TRIGGER:-PT60M
END:VALARM
END:VEVENT
END:VCALENDAR