BEGIN:VCALENDAR
VERSION:2.0
PRODID:prosv/uchitelclub
NAME:Учитель.club
X-WR-CALNAME:Учитель.club
DESCRIPTION:Вебинары\, конференции\, рабочие пр
 ограммы\, повышение квалификации
X-WR-CALDESC:Вебинары\, конференции\, рабочие п
 рограммы\, повышение квалификации
BEGIN:VTIMEZONE
TZID:Europe/Moscow
BEGIN:STANDARD
DTSTART:20250817T150000
TZOFFSETFROM:+0300
TZOFFSETTO:+0300
END:STANDARD
END:VTIMEZONE
BEGIN:VTIMEZONE
TZID:UTC
BEGIN:STANDARD
DTSTART:20250726T180150
TZOFFSETFROM:+0000
TZOFFSETTO:+0000
END:STANDARD
END:VTIMEZONE
BEGIN:VEVENT
UID:19670
DTSTAMP:20260422T180150Z
SUMMARY:Универсальная библиотека ЦОК: подго
 товка к ГИА по математике с ресурсами «
 Просвещения»
STATUS:CONFIRMED
ORGANIZER;CN=ГК Просвещение:MAILTO:vopros@prosv.ru
URL:https://uchitel.club/events/universalnaia-biblioteka-cok-podgotovka-k-g
 ia-po-matematike-s-resursami-prosveshheniia
DTSTART;TZID=Europe/Moscow:20260514T150000
DTEND;TZID=Europe/Moscow:20260514T160000
BEGIN:VALARM
ACTION:DISPLAY
DESCRIPTION:Мероприятие Универсальная библио
 тека ЦОК: подготовка к ГИА по математик
 е с ресурсами «Просвещения» начнется че
 рез час
TRIGGER:-PT60M
END:VALARM
END:VEVENT
END:VCALENDAR