BEGIN:VCALENDAR
VERSION:2.0
PRODID:prosv/uchitelclub
NAME:Учитель.club
X-WR-CALNAME:Учитель.club
DESCRIPTION:Вебинары\, конференции\, рабочие пр
 ограммы\, повышение квалификации
X-WR-CALDESC:Вебинары\, конференции\, рабочие п
 рограммы\, повышение квалификации
BEGIN:VTIMEZONE
TZID:Europe/Moscow
BEGIN:STANDARD
DTSTART:20250809T150000
TZOFFSETFROM:+0300
TZOFFSETTO:+0300
END:STANDARD
END:VTIMEZONE
BEGIN:VTIMEZONE
TZID:UTC
BEGIN:STANDARD
DTSTART:20250726T175411
TZOFFSETFROM:+0000
TZOFFSETTO:+0000
END:STANDARD
END:VTIMEZONE
BEGIN:VEVENT
UID:19666
DTSTAMP:20260422T175411Z
SUMMARY:Тетрадь с характером: как «умная раб
 очая тетрадь» меняет отношение школьник
 ов к выполнению домашних заданий
STATUS:CONFIRMED
ORGANIZER;CN=ГК Просвещение:MAILTO:vopros@prosv.ru
URL:https://uchitel.club/events/tetrad-s-xarakterom-kak-umnaia-rabocaia-tet
 rad-meniaet-otnosenie-skolnikov-k-vypolneniiu-domasnix-zadanii
DTSTART;TZID=Europe/Moscow:20260506T150000
DTEND;TZID=Europe/Moscow:20260506T160000
BEGIN:VALARM
ACTION:DISPLAY
DESCRIPTION:Мероприятие Тетрадь с характером:
  как «умная рабочая тетрадь» меняет отно
 шение школьников к выполнению домашних 
 заданий начнется через час
TRIGGER:-PT60M
END:VALARM
END:VEVENT
END:VCALENDAR