BEGIN:VCALENDAR
VERSION:2.0
PRODID:prosv/uchitelclub
NAME:Учитель.club
X-WR-CALNAME:Учитель.club
DESCRIPTION:Вебинары\, конференции\, рабочие пр
 ограммы\, повышение квалификации
X-WR-CALDESC:Вебинары\, конференции\, рабочие п
 рограммы\, повышение квалификации
BEGIN:VTIMEZONE
TZID:Europe/Moscow
BEGIN:STANDARD
DTSTART:20250801T130000
TZOFFSETFROM:+0300
TZOFFSETTO:+0300
END:STANDARD
END:VTIMEZONE
BEGIN:VTIMEZONE
TZID:UTC
BEGIN:STANDARD
DTSTART:20250728T141809
TZOFFSETFROM:+0000
TZOFFSETTO:+0000
END:STANDARD
END:VTIMEZONE
BEGIN:VEVENT
UID:19688
DTSTAMP:20260424T141809Z
SUMMARY:Семинар \"Русский язык и литература. 
 Нескучные домашние работы\, повторение в
  системе и подготовка к итоговой аттеста
 ции с УБ ЦОК\"
STATUS:CONFIRMED
ORGANIZER;CN=ГК Просвещение:MAILTO:vopros@prosv.ru
URL:https://uchitel.club/events/seminar-russkii-iazyk-i-literatura-neskucny
 e-domasnie-raboty-povtorenie-v-sisteme-i-podgotovka-k-itogovoi-attestacii-
 s-ub-cok
DTSTART;TZID=Europe/Moscow:20260428T130000
DTEND;TZID=Europe/Moscow:20260428T233000
BEGIN:VALARM
ACTION:DISPLAY
DESCRIPTION:Мероприятие Семинар \"Русский язык
  и литература. Нескучные домашние работы
 \, повторение в системе и подготовка к ит
 оговой аттестации с УБ ЦОК\" начнется чер
 ез час
TRIGGER:-PT60M
END:VALARM
END:VEVENT
END:VCALENDAR