BEGIN:VCALENDAR
VERSION:2.0
PRODID:prosv/uchitelclub
NAME:Учитель.club
X-WR-CALNAME:Учитель.club
DESCRIPTION:Вебинары\, конференции\, рабочие пр
 ограммы\, повышение квалификации
X-WR-CALDESC:Вебинары\, конференции\, рабочие п
 рограммы\, повышение квалификации
BEGIN:VTIMEZONE
TZID:Europe/Moscow
BEGIN:STANDARD
DTSTART:20250808T150000
TZOFFSETFROM:+0300
TZOFFSETTO:+0300
END:STANDARD
END:VTIMEZONE
BEGIN:VTIMEZONE
TZID:UTC
BEGIN:STANDARD
DTSTART:20250727T200903
TZOFFSETFROM:+0000
TZOFFSETTO:+0000
END:STANDARD
END:VTIMEZONE
BEGIN:VEVENT
UID:19659
DTSTAMP:20260423T200903Z
SUMMARY:Ресурсы УБ ЦОК: готовимся к ОГЭ и ЕГ
 Э по всем предметам в библиотеке
STATUS:CONFIRMED
ORGANIZER;CN=ГК Просвещение:MAILTO:vopros@prosv.ru
URL:https://uchitel.club/events/resursy-ub-cok-gotovimsia-k-oge-i-ege-po-vs
 em-predmetam-v-biblioteke
DTSTART;TZID=Europe/Moscow:20260505T150000
DTEND;TZID=Europe/Moscow:20260505T160000
BEGIN:VALARM
ACTION:DISPLAY
DESCRIPTION:Мероприятие Ресурсы УБ ЦОК: готов
 имся к ОГЭ и ЕГЭ по всем предметам в би
 блиотеке начнется через час
TRIGGER:-PT60M
END:VALARM
END:VEVENT
END:VCALENDAR