BEGIN:VCALENDAR
VERSION:2.0
PRODID:prosv/uchitelclub
NAME:Учитель.club
X-WR-CALNAME:Учитель.club
DESCRIPTION:Вебинары\, конференции\, рабочие пр
 ограммы\, повышение квалификации
X-WR-CALDESC:Вебинары\, конференции\, рабочие п
 рограммы\, повышение квалификации
BEGIN:VTIMEZONE
TZID:Europe/Moscow
BEGIN:STANDARD
DTSTART:20250823T120000
TZOFFSETFROM:+0300
TZOFFSETTO:+0300
END:STANDARD
END:VTIMEZONE
BEGIN:VTIMEZONE
TZID:UTC
BEGIN:STANDARD
DTSTART:20250726T222425
TZOFFSETFROM:+0000
TZOFFSETTO:+0000
END:STANDARD
END:VTIMEZONE
BEGIN:VEVENT
UID:19677
DTSTAMP:20260422T222425Z
SUMMARY:Путешествуем по России с уткой Русе
 й! Летние экологическое проекты в детск
 ом саду
STATUS:CONFIRMED
ORGANIZER;CN=ГК Просвещение:MAILTO:vopros@prosv.ru
URL:https://uchitel.club/events/putesestvuem-po-rossii-s-utkoi-rusei-letnie
 -ekologiceskoe-proekty-v-detskom-sadu
DTSTART;TZID=Europe/Moscow:20260520T120000
DTEND;TZID=Europe/Moscow:20260520T130000
BEGIN:VALARM
ACTION:DISPLAY
DESCRIPTION:Мероприятие Путешествуем по Росс
 ии с уткой Русей! Летние экологическое п
 роекты в детском саду начнется через ча
 с
TRIGGER:-PT60M
END:VALARM
END:VEVENT
END:VCALENDAR