BEGIN:VCALENDAR
VERSION:2.0
PRODID:prosv/uchitelclub
NAME:Учитель.club
X-WR-CALNAME:Учитель.club
DESCRIPTION:Вебинары\, конференции\, рабочие пр
 ограммы\, повышение квалификации
X-WR-CALDESC:Вебинары\, конференции\, рабочие п
 рограммы\, повышение квалификации
BEGIN:VTIMEZONE
TZID:Europe/Moscow
BEGIN:STANDARD
DTSTART:20250725T150000
TZOFFSETFROM:+0300
TZOFFSETTO:+0300
END:STANDARD
END:VTIMEZONE
BEGIN:VTIMEZONE
TZID:UTC
BEGIN:STANDARD
DTSTART:20250724T131559
TZOFFSETFROM:+0000
TZOFFSETTO:+0000
END:STANDARD
END:VTIMEZONE
BEGIN:VEVENT
UID:19614
DTSTAMP:20260420T131559Z
SUMMARY:Подлинный патриотизм: чувство сопри
 частности к судьбе многонациональной Ро
 ссии
STATUS:CONFIRMED
ORGANIZER;CN=ГК Просвещение:MAILTO:vopros@prosv.ru
URL:https://uchitel.club/events/podlinnyi-patriotizm-cuvstvo-sopricastnosti
 -k-sudbe-mnogonacionalnoi-rossii
DTSTART;TZID=Europe/Moscow:20260421T150000
DTEND;TZID=Europe/Moscow:20260421T160000
BEGIN:VALARM
ACTION:DISPLAY
DESCRIPTION:Мероприятие Подлинный патриотизм:
  чувство сопричастности к судьбе многон
 ациональной России начнется через час
TRIGGER:-PT60M
END:VALARM
END:VEVENT
END:VCALENDAR