BEGIN:VCALENDAR
VERSION:2.0
PRODID:prosv/uchitelclub
NAME:Учитель.club
X-WR-CALNAME:Учитель.club
DESCRIPTION:Вебинары\, конференции\, рабочие пр
 ограммы\, повышение квалификации
X-WR-CALDESC:Вебинары\, конференции\, рабочие п
 рограммы\, повышение квалификации
BEGIN:VTIMEZONE
TZID:Europe/Moscow
BEGIN:STANDARD
DTSTART:20250808T163000
TZOFFSETFROM:+0300
TZOFFSETTO:+0300
END:STANDARD
END:VTIMEZONE
BEGIN:VTIMEZONE
TZID:UTC
BEGIN:STANDARD
DTSTART:20250727T201130
TZOFFSETFROM:+0000
TZOFFSETTO:+0000
END:STANDARD
END:VTIMEZONE
BEGIN:VEVENT
UID:19660
DTSTAMP:20260423T201130Z
SUMMARY:Организация работ агротехнологичес
 кого направления на пришкольном участке
STATUS:CONFIRMED
ORGANIZER;CN=ГК Просвещение:MAILTO:vopros@prosv.ru
URL:https://uchitel.club/events/organizaciia-rabot-agrotexnologiceskogo-nap
 ravleniia-na-priskolnom-ucastke
DTSTART;TZID=Europe/Moscow:20260505T163000
DTEND;TZID=Europe/Moscow:20260505T173000
BEGIN:VALARM
ACTION:DISPLAY
DESCRIPTION:Мероприятие Организация работ агр
 отехнологического направления на пришк
 ольном участке начнется через час
TRIGGER:-PT60M
END:VALARM
END:VEVENT
END:VCALENDAR