BEGIN:VCALENDAR
VERSION:2.0
PRODID:prosv/uchitelclub
NAME:Учитель.club
X-WR-CALNAME:Учитель.club
DESCRIPTION:Вебинары\, конференции\, рабочие пр
 ограммы\, повышение квалификации
X-WR-CALDESC:Вебинары\, конференции\, рабочие п
 рограммы\, повышение квалификации
BEGIN:VTIMEZONE
TZID:Europe/Moscow
BEGIN:STANDARD
DTSTART:20250817T170000
TZOFFSETFROM:+0300
TZOFFSETTO:+0300
END:STANDARD
END:VTIMEZONE
BEGIN:VTIMEZONE
TZID:UTC
BEGIN:STANDARD
DTSTART:20250727T101322
TZOFFSETFROM:+0000
TZOFFSETTO:+0000
END:STANDARD
END:VTIMEZONE
BEGIN:VEVENT
UID:19674
DTSTAMP:20260423T101322Z
SUMMARY:Марафон родительских инициатив. Тре
 к 3 «Гаджет vs негаджет». Где гаджет полез
 ен?»
STATUS:CONFIRMED
ORGANIZER;CN=ГК Просвещение:MAILTO:vopros@prosv.ru
URL:https://uchitel.club/events/marafon-roditelskix-iniciativ-trek-3-gadzet
 -vs-negadzet-gde-gadzet-polezen
DTSTART;TZID=Europe/Moscow:20260514T170000
DTEND;TZID=Europe/Moscow:20260514T183000
BEGIN:VALARM
ACTION:DISPLAY
DESCRIPTION:Мероприятие Марафон родительских 
 инициатив. Трек 3 «Гаджет vs негаджет». Гд
 е гаджет полезен?» начнется через час
TRIGGER:-PT60M
END:VALARM
END:VEVENT
END:VCALENDAR