BEGIN:VCALENDAR
VERSION:2.0
PRODID:prosv/uchitelclub
NAME:Учитель.club
X-WR-CALNAME:Учитель.club
DESCRIPTION:Вебинары\, конференции\, рабочие пр
 ограммы\, повышение квалификации
X-WR-CALDESC:Вебинары\, конференции\, рабочие п
 рограммы\, повышение квалификации
BEGIN:VTIMEZONE
TZID:Europe/Moscow
BEGIN:STANDARD
DTSTART:20250807T163000
TZOFFSETFROM:+0300
TZOFFSETTO:+0300
END:STANDARD
END:VTIMEZONE
BEGIN:VTIMEZONE
TZID:UTC
BEGIN:STANDARD
DTSTART:20250727T201714
TZOFFSETFROM:+0000
TZOFFSETTO:+0000
END:STANDARD
END:VTIMEZONE
BEGIN:VEVENT
UID:19658
DTSTAMP:20260423T201714Z
SUMMARY:Летние задания в игровом формате: кв
 есты\, бродилки\, головоломки для начальн
 ой школы
STATUS:CONFIRMED
ORGANIZER;CN=ГК Просвещение:MAILTO:vopros@prosv.ru
URL:https://uchitel.club/events/letnie-zadaniia-v-igrovom-formate-kvesty-br
 odilki-golovolomki-dlia-nacalnoi-skoly
DTSTART;TZID=Europe/Moscow:20260504T163000
DTEND;TZID=Europe/Moscow:20260504T173000
BEGIN:VALARM
ACTION:DISPLAY
DESCRIPTION:Мероприятие Летние задания в игро
 вом формате: квесты\, бродилки\, головоло
 мки для начальной школы начнется через ч
 ас
TRIGGER:-PT60M
END:VALARM
END:VEVENT
END:VCALENDAR