BEGIN:VCALENDAR
VERSION:2.0
PRODID:prosv/uchitelclub
NAME:Учитель.club
X-WR-CALNAME:Учитель.club
DESCRIPTION:Вебинары\, конференции\, рабочие пр
 ограммы\, повышение квалификации
X-WR-CALDESC:Вебинары\, конференции\, рабочие п
 рограммы\, повышение квалификации
BEGIN:VTIMEZONE
TZID:Europe/Moscow
BEGIN:STANDARD
DTSTART:20250816T120000
TZOFFSETFROM:+0300
TZOFFSETTO:+0300
END:STANDARD
END:VTIMEZONE
BEGIN:VTIMEZONE
TZID:UTC
BEGIN:STANDARD
DTSTART:20250726T222111
TZOFFSETFROM:+0000
TZOFFSETTO:+0000
END:STANDARD
END:VTIMEZONE
BEGIN:VEVENT
UID:19676
DTSTAMP:20260422T222111Z
SUMMARY:Лабиринты + математика = игра!
STATUS:CONFIRMED
ORGANIZER;CN=ГК Просвещение:MAILTO:vopros@prosv.ru
URL:https://uchitel.club/events/labirinty-matematika-igra
DTSTART;TZID=Europe/Moscow:20260513T120000
DTEND;TZID=Europe/Moscow:20260513T130000
BEGIN:VALARM
ACTION:DISPLAY
DESCRIPTION:Мероприятие Лабиринты + математик
 а = игра! начнется через час
TRIGGER:-PT60M
END:VALARM
END:VEVENT
END:VCALENDAR