BEGIN:VCALENDAR
VERSION:2.0
PRODID:prosv/uchitelclub
NAME:Учитель.club
X-WR-CALNAME:Учитель.club
DESCRIPTION:Вебинары\, конференции\, рабочие пр
 ограммы\, повышение квалификации
X-WR-CALDESC:Вебинары\, конференции\, рабочие п
 рограммы\, повышение квалификации
BEGIN:VTIMEZONE
TZID:Europe/Moscow
BEGIN:STANDARD
DTSTART:20250809T120000
TZOFFSETFROM:+0300
TZOFFSETTO:+0300
END:STANDARD
END:VTIMEZONE
BEGIN:VTIMEZONE
TZID:UTC
BEGIN:STANDARD
DTSTART:20250726T223320
TZOFFSETFROM:+0000
TZOFFSETTO:+0000
END:STANDARD
END:VTIMEZONE
BEGIN:VEVENT
UID:19675
DTSTAMP:20260422T223320Z
SUMMARY:К школе готов! Занимаемся с ребёнко
 м дома
STATUS:CONFIRMED
ORGANIZER;CN=ГК Просвещение:MAILTO:vopros@prosv.ru
URL:https://uchitel.club/events/k-skole-gotov-zanimaemsia-s-rebenkom-doma
DTSTART;TZID=Europe/Moscow:20260506T120000
DTEND;TZID=Europe/Moscow:20260506T130000
BEGIN:VALARM
ACTION:DISPLAY
DESCRIPTION:Мероприятие К школе готов! Занима
 емся с ребёнком дома начнется через час
TRIGGER:-PT60M
END:VALARM
END:VEVENT
END:VCALENDAR