BEGIN:VCALENDAR
VERSION:2.0
PRODID:prosv/uchitelclub
NAME:Учитель.club
X-WR-CALNAME:Учитель.club
DESCRIPTION:Вебинары\, конференции\, рабочие пр
 ограммы\, повышение квалификации
X-WR-CALDESC:Вебинары\, конференции\, рабочие п
 рограммы\, повышение квалификации
BEGIN:VTIMEZONE
TZID:Europe/Moscow
BEGIN:STANDARD
DTSTART:20250809T163000
TZOFFSETFROM:+0300
TZOFFSETTO:+0300
END:STANDARD
END:VTIMEZONE
BEGIN:VTIMEZONE
TZID:UTC
BEGIN:STANDARD
DTSTART:20250727T231251
TZOFFSETFROM:+0000
TZOFFSETTO:+0000
END:STANDARD
END:VTIMEZONE
BEGIN:VEVENT
UID:19661
DTSTAMP:20260423T231251Z
SUMMARY:Инженерные задачи на уроке физики в
  7 классе
STATUS:CONFIRMED
ORGANIZER;CN=ГК Просвещение:MAILTO:vopros@prosv.ru
URL:https://uchitel.club/events/inzenernye-zadaci-na-uroke-fiziki-v-7-klass
 e
DTSTART;TZID=Europe/Moscow:20260506T163000
DTEND;TZID=Europe/Moscow:20260506T173000
BEGIN:VALARM
ACTION:DISPLAY
DESCRIPTION:Мероприятие Инженерные задачи на 
 уроке физики в 7 классе начнется через ч
 ас
TRIGGER:-PT60M
END:VALARM
END:VEVENT
END:VCALENDAR