BEGIN:VCALENDAR
VERSION:2.0
PRODID:prosv/uchitelclub
NAME:Учитель.club
X-WR-CALNAME:Учитель.club
DESCRIPTION:Вебинары\, конференции\, рабочие пр
 ограммы\, повышение квалификации
X-WR-CALDESC:Вебинары\, конференции\, рабочие п
 рограммы\, повышение квалификации
BEGIN:VTIMEZONE
TZID:Europe/Moscow
BEGIN:STANDARD
DTSTART:20250801T160000
TZOFFSETFROM:+0300
TZOFFSETTO:+0300
END:STANDARD
END:VTIMEZONE
BEGIN:VTIMEZONE
TZID:UTC
BEGIN:STANDARD
DTSTART:20250728T140136
TZOFFSETFROM:+0000
TZOFFSETTO:+0000
END:STANDARD
END:VTIMEZONE
BEGIN:VEVENT
UID:19651
DTSTAMP:20260424T140136Z
SUMMARY:Интеграция современных технологий в
  образовательный процесс: методическое 
 обоснование и проектирование результат
 ов. Московская область
STATUS:CONFIRMED
ORGANIZER;CN=ГК Просвещение:MAILTO:vopros@prosv.ru
URL:https://uchitel.club/events/integraciia-sovremennyx-texnologii-v-obrazo
 vatelnyi-process-metodiceskoe-obosnovanie-i-proektirovanie-rezultatov-mosk
 ovskaia-oblast
DTSTART;TZID=Europe/Moscow:20260428T160000
DTEND;TZID=Europe/Moscow:20260428T170000
BEGIN:VALARM
ACTION:DISPLAY
DESCRIPTION:Мероприятие Интеграция современн
 ых технологий в образовательный процесс
 : методическое обоснование и проектиров
 ание результатов. Московская область на
 чнется через час
TRIGGER:-PT60M
END:VALARM
END:VEVENT
END:VCALENDAR