BEGIN:VCALENDAR
VERSION:2.0
PRODID:prosv/uchitelclub
NAME:Учитель.club
X-WR-CALNAME:Учитель.club
DESCRIPTION:Вебинары\, конференции\, рабочие пр
 ограммы\, повышение квалификации
X-WR-CALDESC:Вебинары\, конференции\, рабочие п
 рограммы\, повышение квалификации
BEGIN:VTIMEZONE
TZID:Europe/Moscow
BEGIN:STANDARD
DTSTART:20250731T120012
TZOFFSETFROM:+0300
TZOFFSETTO:+0300
END:STANDARD
END:VTIMEZONE
BEGIN:VTIMEZONE
TZID:UTC
BEGIN:STANDARD
DTSTART:20250727T202649
TZOFFSETFROM:+0000
TZOFFSETTO:+0000
END:STANDARD
END:VTIMEZONE
BEGIN:VEVENT
UID:19689
DTSTAMP:20260423T202649Z
SUMMARY:ФПУ в общеобразовательном цикле СПО
 : как выстроить учебное обеспечение и уп
 ростить работу с материалами
STATUS:CONFIRMED
ORGANIZER;CN=ГК Просвещение:MAILTO:vopros@prosv.ru
URL:https://uchitel.club/events/fpu-v-obshheobrazovatelnom-cikle-spo-kak-vy
 stroit-ucebnoe-obespecenie-i-uprostit-rabotu-s-materialami
DTSTART;TZID=Europe/Moscow:20260427T120012
DTEND;TZID=Europe/Moscow:20260427T130000
BEGIN:VALARM
ACTION:DISPLAY
DESCRIPTION:Мероприятие ФПУ в общеобразовате
 льном цикле СПО: как выстроить учебное о
 беспечение и упростить работу с матери
 алами начнется через час
TRIGGER:-PT60M
END:VALARM
END:VEVENT
END:VCALENDAR