BEGIN:VCALENDAR
VERSION:2.0
PRODID:prosv/uchitelclub
NAME:Учитель.club
X-WR-CALNAME:Учитель.club
DESCRIPTION:Вебинары\, конференции\, рабочие пр
 ограммы\, повышение квалификации
X-WR-CALDESC:Вебинары\, конференции\, рабочие п
 рограммы\, повышение квалификации
BEGIN:VTIMEZONE
TZID:Europe/Moscow
BEGIN:STANDARD
DTSTART:20250726T163000
TZOFFSETFROM:+0300
TZOFFSETTO:+0300
END:STANDARD
END:VTIMEZONE
BEGIN:VTIMEZONE
TZID:UTC
BEGIN:STANDARD
DTSTART:20250724T061116
TZOFFSETFROM:+0000
TZOFFSETTO:+0000
END:STANDARD
END:VTIMEZONE
BEGIN:VEVENT
UID:19615
DTSTAMP:20260420T061116Z
SUMMARY:Единство народов России как культур
 ный феномен в контексте 90-х годов XX века
STATUS:CONFIRMED
ORGANIZER;CN=ГК Просвещение:MAILTO:vopros@prosv.ru
URL:https://uchitel.club/events/edinstvo-narodov-rossii-kak-kulturnyi-fenom
 en-v-kontekste-90-x-godov-xx-veka
DTSTART;TZID=Europe/Moscow:20260422T163000
DTEND;TZID=Europe/Moscow:20260422T173000
BEGIN:VALARM
ACTION:DISPLAY
DESCRIPTION:Мероприятие Единство народов Росс
 ии как культурный феномен в контексте 90-
 х годов XX века начнется через час
TRIGGER:-PT60M
END:VALARM
END:VEVENT
END:VCALENDAR